BEGIN:VCALENDAR
PRODID:-//eluceo/ical//2.0/EN
VERSION:2.0
CALSCALE:GREGORIAN
BEGIN:VEVENT
UID:057c4fd2fe8358383ad45761209be39a
DTSTAMP:20260422T223753Z
SUMMARY:Courage to Remember at Eastern Illinois University
DESCRIPTION:Champaign-Urbana Jewish Federation\nCommunity Calendar\nhttps:/
 /cujf.org/community-calendar/CTR-at-EIU\n\nCourage to Remember\, a traveli
 ng exhibit about the Holocaust\, will be displayed at the Booth Library at
  Eastern Illinois University in Charleston\, Illinois from January 27\, 20
 25\, to January 31\, 2025.\n\n \n\nTaking place between 1941 and 1945\, t
 he Holocaust was the largest and most organized state-sponsored genocide o
 n Earth and is a pivotal part of the Jewish people’s story in modern tim
 es. It is also the most blatant example of the escalation of prejudice and
  discrimination into hate and...
DTSTART;TZID=America/Chicago:20250127T000000
DTEND;TZID=America/Chicago:20250131T235959
END:VEVENT
END:VCALENDAR
