BEGIN:VCALENDAR
PRODID:-//eluceo/ical//2.0/EN
VERSION:2.0
CALSCALE:GREGORIAN
BEGIN:VEVENT
UID:20ef07c5a742ada53a3b0a01d0fcd99d
DTSTAMP:20260420T140810Z
SUMMARY:CUJF at the Champaign Farmers Market
DESCRIPTION:Champaign-Urbana Jewish Federation\nCommunity Calendar\nhttps:/
 /cujf.org/community-calendar/CFM812\n\nFind PJ Library at the\n\nChampaign
  Farmers Market\n\nSpecific Tuesdays from 3:00 - 6:00 PM\n\nOn the corner 
 of Neil and WashingtonÂ in downtown Champaign\n\n\n\n\n\n\n\n\n\n\n\n\n\nT
 his summer\, CUJF PJ Library will be appearing at several of the Champaign
  Farmers Markets! Stop by our table to check out the latest PJ Library boo
 ks\, crafts\, and for other Jewish resources. You can find us at the farme
 rs market onÂ August 12th\, 2025Â...
DTSTART;TZID=America/Chicago:20250812T150000
DTEND;TZID=America/Chicago:20250812T180000
END:VEVENT
END:VCALENDAR
