BEGIN:VCALENDAR
PRODID:-//eluceo/ical//2.0/EN
VERSION:2.0
CALSCALE:GREGORIAN
BEGIN:VEVENT
UID:e32fdb70f675424060276747c9106e48
DTSTAMP:20260419T184457Z
SUMMARY:CUJF at the Champaign Farmers Market
DESCRIPTION:Champaign-Urbana Jewish Federation\nCommunity Calendar\nhttps:/
 /cujf.org/community-calendar/CFM722\n\nFind PJ Library at the\n\nChampaign
  Farmers Market\n\nSpecific Tuesdays from 3:00 - 6:00 PM\n\nOn the corner 
 of Neil and Washington in downtown Champaign\n\n\n\n\n\n\n\n\n\n\n\n\n\nT
 his summer\, CUJF PJ Library will be appearing at several of the Champaign
  Farmers Markets! Stop by our table to check out the latest PJ Library boo
 ks\, crafts\, and for other Jewish resources. You can find us at the farme
 rs market on July 22nd\, 2025 f...
DTSTART;TZID=America/Chicago:20250722T150000
DTEND;TZID=America/Chicago:20250722T180000
END:VEVENT
END:VCALENDAR
