BEGIN:VCALENDAR
PRODID:-//eluceo/ical//2.0/EN
VERSION:2.0
CALSCALE:GREGORIAN
BEGIN:VEVENT
UID:b201684069d6a53cf0fa7965c1caab82
DTSTAMP:20260421T111649Z
SUMMARY:3 and Under Chavurah
DESCRIPTION:Champaign-Urbana Jewish Federation\nCommunity Calendar\nhttps:/
 /cujf.org/community-calendar/3-and-under-chavurah-feb\n\nThis is an opport
 unity for our youngest community members and their families to have an inf
 ormal playdate and build community.  We will provide some snacks for kids
  (and parents) and families are invited to bring food as well if that is n
 eeded for schedules and routine.  We will meet in the Yad b’Yad (Hand i
 n Hand) classroom for some activities\, crafts\, playtime and discussion.\
 n\nFuture dates include: \n\n- March 15th\n\n- April 16th\n\n- May 14th
DTSTART;TZID=America/Chicago:20240220T170000
DTEND;TZID=America/Chicago:20240220T190000
END:VEVENT
END:VCALENDAR
