BEGIN:VCALENDAR
PRODID:-//eluceo/ical//2.0/EN
VERSION:2.0
CALSCALE:GREGORIAN
BEGIN:VEVENT
UID:504a8d5745c63432c31b8155c1659855
DTSTAMP:20260424T004009Z
SUMMARY:3 and Under Chavurah
DESCRIPTION:Champaign-Urbana Jewish Federation\nCommunity Calendar\nhttps:/
 /cujf.org/community-calendar/3-and-under-chavurah\n\nFamilies with childre
 n age 3 and under are invited to come to a playgroup! Parents can talk and
  share best practices and stories while kids explore different activities.
  Parents are invited to bring food\, kosher snacks available for the child
 ren. \nPlease RSVP to Rabbi Jody (educator@sinaitemplecu.org)
DTSTART;TZID=America/Chicago:20190328T173000
DTEND;TZID=America/Chicago:20190328T190000
END:VEVENT
END:VCALENDAR
