BEGIN:VCALENDAR
PRODID:-//eluceo/ical//2.0/EN
VERSION:2.0
CALSCALE:GREGORIAN
BEGIN:VEVENT
UID:d71f9ba368d69ffa84385e682854511d
DTSTAMP:20260421T084202Z
SUMMARY:2nd Annual HGMS  Graduate Student Symposium
DESCRIPTION:Champaign-Urbana Jewish Federation\nCommunity Calendar\nhttps:/
 /cujf.org/community-calendar/2nd-annual-hgms--graduate-student-symposium-1
 551303315\n\nPlease join us forthe second annual Graduate Symposium in Mem
 ory Studies. This is a graduate-student led project organized by the Initi
 ative in Holocaust\, Genocide\, and Memory Studies to foster dialogue at U
 IUC about memory studies\, broadly conceived. We are thrilled that our key
 note speaker is Nafissa Thompson-Spires (Creative Writing and HGMS). Nafis
 sa is the author of the fantastic book\, The Heads of Colored People\, whi
 ch has been widely reviewed (including in the New York Times) and...
DTSTART;TZID=America/Chicago:20190301T083000
DTEND;TZID=America/Chicago:20190301T170000
END:VEVENT
END:VCALENDAR
