BEGIN:VCALENDAR
PRODID:-//eluceo/ical//2.0/EN
VERSION:2.0
CALSCALE:GREGORIAN
BEGIN:VEVENT
UID:b0302bf690764818ee56e12c49bc430e
DTSTAMP:20260425T154353Z
SUMMARY:21st Century Jewish Writing and the World: Scholarly Roundtable
DESCRIPTION:Champaign-Urbana Jewish Federation\nCommunity Calendar\nhttps:/
 /cujf.org/community-calendar/21st-century-jewish-writing-and-the-world-sch
 olarly-roundtable-1552926485\n\nJewish writing is often said to be in decl
 ine\, at least since the passing of the great wave of second-generation Am
 erican Jewish immigrants. At the same time\, it is often argued today that
  Jewish writing has never been more diverse and multivalent. To that end\,
  our scholars will also be distinguishing new directions for Jewish writer
 s and Jewish literary studies. The symposium will feature presentations by
 : • Sarah Phillips Casteel\, Carleton University\, author of Calypso Jew
 s: Jewishness in...
DTSTART;TZID=America/Chicago:20190329T100000
DTEND;TZID=America/Chicago:20190329T170000
END:VEVENT
END:VCALENDAR
