BEGIN:VCALENDAR
PRODID:-//eluceo/ical//2.0/EN
VERSION:2.0
CALSCALE:GREGORIAN
BEGIN:VEVENT
UID:c0936d258db37e93eb50057874a97006
DTSTAMP:20260422T015248Z
SUMMARY:2019 Jewish Film Festival: After Auschwitz
DESCRIPTION:Champaign-Urbana Jewish Federation\nCommunity Calendar\nhttps:/
 /cujf.org/community-calendar/2019-jewish-film-festival\n\nJoin us for the 
 2019 Jewish Film Festival!\n\nOn March 3\, we will screen After Auschwitz.
 \n\n \n\nNOTE: The ticket link here is for a festival pass for all four f
 ilms ($32). Individual tickets can be purchased from the Art Theater for $
 10 per film. \n\n \n\nDirector Jon Kean will join us via Skype for post-
 show Q&A\n\n“You’re free. Go home.” Most Holocaust films end with th
 ese words\, the very words that survivors heard at liberation. But AFTER A
 USCHWITZ is not a typical “Holocaust...
DTSTART;TZID=America/Chicago:20190303T190000
DTEND;TZID=America/Chicago:20190303T203000
END:VEVENT
END:VCALENDAR
