BEGIN:VCALENDAR
PRODID:-//eluceo/ical//2.0/EN
VERSION:2.0
CALSCALE:GREGORIAN
BEGIN:VEVENT
UID:9e8f887308c4e0c4cfebbc263b805bdb
DTSTAMP:20260421T031110Z
SUMMARY:10th Anniversary of the Cohen Center
DESCRIPTION:Champaign-Urbana Jewish Federation\nCommunity Calendar\nhttps:/
 /cujf.org/community-calendar/10th-anniversary-of-the-cohen-center\n\nOn De
 c 4th\, 2007\, students came to experience and enjoy the most exciting new
  addition to the University landscape\, The Margie K. and Louis N. Cohen C
 enter for Jewish Life. Join us as we celebrate the 10th Anniversary of the
  Cohen Center on April 29th\, 2018. The event will begin at 1:00 p.m.\n\n
  \n\nWe will be honoring the Takiff/Cohen Family\, Maury Fertig\, and Bar
 ry Weiner for their outstanding contributions to Hillel. The event will in
 clude lunch\, special guest speakers  including Dean Br...
DTSTART;TZID=America/Chicago:20180429T130000
DTEND;TZID=America/Chicago:20180429T160000
END:VEVENT
END:VCALENDAR
